BEGIN:VCALENDAR
VERSION:2.0
PRODID:-//Compagnia teatrale Teatro Studio - ECPv6.15.17.1//NONSGML v1.0//EN
CALSCALE:GREGORIAN
METHOD:PUBLISH
X-WR-CALNAME:Compagnia teatrale Teatro Studio
X-ORIGINAL-URL:https://www.teatrostudio.it
X-WR-CALDESC:Eventi per Compagnia teatrale Teatro Studio
REFRESH-INTERVAL;VALUE=DURATION:PT1H
X-Robots-Tag:noindex
X-PUBLISHED-TTL:PT1H
BEGIN:VTIMEZONE
TZID:Europe/Rome
BEGIN:DAYLIGHT
TZOFFSETFROM:+0100
TZOFFSETTO:+0200
TZNAME:CEST
DTSTART:20250330T010000
END:DAYLIGHT
BEGIN:STANDARD
TZOFFSETFROM:+0200
TZOFFSETTO:+0100
TZNAME:CET
DTSTART:20251026T010000
END:STANDARD
BEGIN:DAYLIGHT
TZOFFSETFROM:+0100
TZOFFSETTO:+0200
TZNAME:CEST
DTSTART:20260329T010000
END:DAYLIGHT
BEGIN:STANDARD
TZOFFSETFROM:+0200
TZOFFSETTO:+0100
TZNAME:CET
DTSTART:20261025T010000
END:STANDARD
BEGIN:DAYLIGHT
TZOFFSETFROM:+0100
TZOFFSETTO:+0200
TZNAME:CEST
DTSTART:20270328T010000
END:DAYLIGHT
BEGIN:STANDARD
TZOFFSETFROM:+0200
TZOFFSETTO:+0100
TZNAME:CET
DTSTART:20271031T010000
END:STANDARD
END:VTIMEZONE
BEGIN:VEVENT
DTSTART;VALUE=DATE:20260516
DTEND;VALUE=DATE:20260517
DTSTAMP:20260421T194615
CREATED:20260317T071255Z
LAST-MODIFIED:20260327T133057Z
UID:10680-1778889600-1778975999@www.teatrostudio.it
SUMMARY:HO VISTO UN RE... E UN PALADINO
DESCRIPTION:“Ho visto un re…e un paladino”\nda un’idea di Massimo Cardosa testo e regia Mario Fraschetti\n \nInterpreti\nLuca Pierini\, Mirio Tozzini\, Tommaso Pettinati\, \nEnrica Pistolesi\, Daniela Marretti\n \nTesto e regia: Mario Fraschetti\n(Nell’ambito de Le Voci della Storia)\n \nLOCALITA “PESCHIERA” (Saturnia\, Gr)
URL:https://www.teatrostudio.it/index.php/event/ho-visto-un-re-e-un-paladino/
LOCATION:Saturnia
ATTACH;FMTTYPE=image/png:/public/IMG_20260317_151911.png
END:VEVENT
BEGIN:VEVENT
DTSTART;TZID=Europe/Rome:20260620T210000
DTEND;TZID=Europe/Rome:20260620T223000
DTSTAMP:20260421T194615
CREATED:20260317T072032Z
LAST-MODIFIED:20260417T080410Z
UID:10687-1781989200-1781994600@www.teatrostudio.it
SUMMARY:FAHRENHEIT 451 - Adattamento del testo e regia Daniela Marretti
DESCRIPTION:” Fahrenheit 451″ da Ray Bradbury – Restituzione di Lavoro Laboratorio adulti  – \n\n\nFahrenheit 451 è un celebre romanzo distopico\, scritto nel 1953\, da Ray Bradbury\, ambientato in una società futura – tanto simile alla nostra – dalla quale sono stati banditi i libri e nella quale un corpo speciale di “pompieri incendiari” si occupa di bruciare quelli residui. Intanto nei cieli\, un perenne boato\, testimonia una guerra senza fine. Niente più libri\, solo schermi\, giochi\, sport\, pillole e la ricerca della semplificazione e del piacere narcotizzante.  Il protagonista\, Guy Montag\, un pompiere che inizialmente obbedisce agli ordini senza farsi domande\, inizia a mettere in discussione il suo ruolo e la sua esistenza.\n\n\nUna performance immersiva\, a stretto contatto col pubblico\, per un viaggio  che ci condurrà di fronte alle aberrazioni della nostra società e che ci metterà di fronte ai limiti e ai pericoli di un mondo sempre più distolto dal reale\, sempre più anestetizzato\, depotanziato e indifferente… \n\n\nAdattamento del testo e regia:  Daniela Marretti\n\n\nAssistenti alla regia:  Mirio Tozzini ed Enrica Pistolesi\n\nTecnica: Alessandro Zanaboni e Luca Pierini \n\nFormatori: Enrica Pistolesi e Luca Pierini
URL:https://www.teatrostudio.it/index.php/event/fahrenheit-451-laboratorio-adulti/
LOCATION:Alberese\, Alberese\, Alberese
CATEGORIES:LABORATORIO ADULTI
ATTACH;FMTTYPE=image/jpeg:/public/FAHRENHEI-451-RITAGLIO1.jpg
END:VEVENT
BEGIN:VEVENT
DTSTART;TZID=Europe/Rome:20260729T210000
DTEND;TZID=Europe/Rome:20260729T235900
DTSTAMP:20260421T194615
CREATED:20260317T200001Z
LAST-MODIFIED:20260420T132929Z
UID:10690-1785358800-1785369540@www.teatrostudio.it
SUMMARY:NOTTE DELLA LUNA
DESCRIPTION:“Notte della luna”\nconferenza e reading\nGianluca Masi\, Massimo Cardosa\, Francesca Lotti\ncon Teatro Studio\n(Nell’ambito de Le Voci della Storia)
URL:https://www.teatrostudio.it/index.php/event/notte-della-luna/
LOCATION:Piazza della Chiesa\, San Martino Sul Fiora\, Piazza della Chiesa\, San Martino sul Fiora\, 58014
CATEGORIES:READING
ATTACH;FMTTYPE=image/png:/public/IMG_20260420_152519.png
END:VEVENT
BEGIN:VEVENT
DTSTART;VALUE=DATE:20260913
DTEND;VALUE=DATE:20260914
DTSTAMP:20260421T194615
CREATED:20260317T074206Z
LAST-MODIFIED:20260317T074206Z
UID:10694-1789257600-1789343999@www.teatrostudio.it
SUMMARY:TRE PEZZI CENTO LIRE
DESCRIPTION:“Tre pezzi cento lire” da Luciana Bellini\nQuando la modernità giunse in Maremma\n \n\n\nInterpreti\nLuca Pierini\, Mirio Tozzini\, Cosimo Postiglione\nEnrica Pistolesi\, Daniela Marretti\n\nAdattamento e regia\, Mario Fraschetti\n \n\n(Nell’ambito de Le Voci della Storia)\n 
URL:https://www.teatrostudio.it/index.php/event/tre-pezzi-cento-lire/
LOCATION:Poggio Capanne
CATEGORIES:VERNACOLO
ATTACH;FMTTYPE=image/jpeg:/public/tre-pezzi-100-lire.jpg
END:VEVENT
END:VCALENDAR